BEGIN:VCALENDAR
VERSION:2.0
PRODID:-//LaMICHEmin - ECPv6.15.20//NONSGML v1.0//EN
CALSCALE:GREGORIAN
METHOD:PUBLISH
X-ORIGINAL-URL:https://www.lamichemin.fr
X-WR-CALDESC:Évènements pour LaMICHEmin
REFRESH-INTERVAL;VALUE=DURATION:PT1H
X-Robots-Tag:noindex
X-PUBLISHED-TTL:PT1H
BEGIN:VTIMEZONE
TZID:Europe/Paris
BEGIN:DAYLIGHT
TZOFFSETFROM:+0100
TZOFFSETTO:+0200
TZNAME:CEST
DTSTART:20230326T010000
END:DAYLIGHT
BEGIN:STANDARD
TZOFFSETFROM:+0200
TZOFFSETTO:+0100
TZNAME:CET
DTSTART:20231029T010000
END:STANDARD
BEGIN:DAYLIGHT
TZOFFSETFROM:+0100
TZOFFSETTO:+0200
TZNAME:CEST
DTSTART:20240331T010000
END:DAYLIGHT
BEGIN:STANDARD
TZOFFSETFROM:+0200
TZOFFSETTO:+0100
TZNAME:CET
DTSTART:20241027T010000
END:STANDARD
BEGIN:DAYLIGHT
TZOFFSETFROM:+0100
TZOFFSETTO:+0200
TZNAME:CEST
DTSTART:20250330T010000
END:DAYLIGHT
BEGIN:STANDARD
TZOFFSETFROM:+0200
TZOFFSETTO:+0100
TZNAME:CET
DTSTART:20251026T010000
END:STANDARD
END:VTIMEZONE
BEGIN:VEVENT
DTSTART;TZID=Europe/Paris:20240601T163000
DTEND;TZID=Europe/Paris:20240601T210000
DTSTAMP:20260420T142117
CREATED:20240515T070351Z
LAST-MODIFIED:20251019T075314Z
UID:1212-1717259400-1717275600@www.lamichemin.fr
SUMMARY:Assemblée Générale 2024
DESCRIPTION:Les membres du comité de pilotage vous donnent rendez-vous le Samedi 1er Juin 2024 à 16h30 pour l’assemblée générale de l’association. \n16h30 :  Accueil des participants\n17h00 : Présentation du bilan moral\n17h15 : Rapport financier et vote du budget\n17h30 : Tour des commissions\n18h30 : Apéro dinatoire (auberge espagnole)\n19h30 : Spectacle : Boris sur les Planches – Cie Alchymère \nINFOS PRATIQUES\n🖖🏼 Ouvert à tous·tes\n🔎 L’aMICHEmin\, intérieur/extérieur\n💶 Gratuit
URL:https://www.lamichemin.fr/event/assemblee-generale/
CATEGORIES:AG
ATTACH;FMTTYPE=image/jpeg:https://www.lamichemin.fr/wp-content/uploads/2024/05/Visuels-062024.jpg
END:VEVENT
END:VCALENDAR