BEGIN:VCALENDAR
VERSION:2.0
PRODID:-//LaMICHEmin - ECPv6.15.20//NONSGML v1.0//EN
CALSCALE:GREGORIAN
METHOD:PUBLISH
X-WR-CALNAME:LaMICHEmin
X-ORIGINAL-URL:https://www.lamichemin.fr
X-WR-CALDESC:Évènements pour LaMICHEmin
REFRESH-INTERVAL;VALUE=DURATION:PT1H
X-Robots-Tag:noindex
X-PUBLISHED-TTL:PT1H
BEGIN:VTIMEZONE
TZID:Europe/Paris
BEGIN:DAYLIGHT
TZOFFSETFROM:+0100
TZOFFSETTO:+0200
TZNAME:CEST
DTSTART:20250330T010000
END:DAYLIGHT
BEGIN:STANDARD
TZOFFSETFROM:+0200
TZOFFSETTO:+0100
TZNAME:CET
DTSTART:20251026T010000
END:STANDARD
BEGIN:DAYLIGHT
TZOFFSETFROM:+0100
TZOFFSETTO:+0200
TZNAME:CEST
DTSTART:20260329T010000
END:DAYLIGHT
BEGIN:STANDARD
TZOFFSETFROM:+0200
TZOFFSETTO:+0100
TZNAME:CET
DTSTART:20261025T010000
END:STANDARD
BEGIN:DAYLIGHT
TZOFFSETFROM:+0100
TZOFFSETTO:+0200
TZNAME:CEST
DTSTART:20270328T010000
END:DAYLIGHT
BEGIN:STANDARD
TZOFFSETFROM:+0200
TZOFFSETTO:+0100
TZNAME:CET
DTSTART:20271031T010000
END:STANDARD
END:VTIMEZONE
BEGIN:VEVENT
DTSTART;TZID=Europe/Paris:20260507T173000
DTEND;TZID=Europe/Paris:20260507T190000
DTSTAMP:20260421T014103
CREATED:20250304T081703Z
LAST-MODIFIED:20260415T171904Z
UID:1971-1778175000-1778180400@www.lamichemin.fr
SUMMARY:Service Affûtage
DESCRIPTION:Dépôt et reprise de tes  objets à affûter (couteaux\, ciseaux\, outils de jardin …)  chaque 1er jeudi du mois\,  de 17h à 18h30 à l’aMICHEmin. \nINFOS PRATIQUES\n🖖🏼 Ouvert à tous·tes\n🔎 L’aMICHEmin\, intérieur\n💶 Sur devis\n☎  Clément : 06 45 56 14 86
URL:https://www.lamichemin.fr/event/service-affutage/
LOCATION:L’aMICHEmin\, 1 avenue regain\, Monclar de Quercy\, 82230\, France
CATEGORIES:Ateliers,Remouleur
ATTACH;FMTTYPE=image/jpeg:https://www.lamichemin.fr/wp-content/uploads/2025/03/remouleur.jpg
END:VEVENT
END:VCALENDAR